BEGIN:VCALENDAR
VERSION:2.0
PRODID:-//Kappi-Divers - ECPv6.15.20//NONSGML v1.0//EN
CALSCALE:GREGORIAN
METHOD:PUBLISH
X-WR-CALNAME:Kappi-Divers
X-ORIGINAL-URL:https://www.kappi-divers.de
X-WR-CALDESC:Veranstaltungen für Kappi-Divers
REFRESH-INTERVAL;VALUE=DURATION:PT1H
X-Robots-Tag:noindex
X-PUBLISHED-TTL:PT1H
BEGIN:VTIMEZONE
TZID:Europe/Berlin
BEGIN:DAYLIGHT
TZOFFSETFROM:+0100
TZOFFSETTO:+0200
TZNAME:CEST
DTSTART:20240331T010000
END:DAYLIGHT
BEGIN:STANDARD
TZOFFSETFROM:+0200
TZOFFSETTO:+0100
TZNAME:CET
DTSTART:20241027T010000
END:STANDARD
BEGIN:DAYLIGHT
TZOFFSETFROM:+0100
TZOFFSETTO:+0200
TZNAME:CEST
DTSTART:20250330T010000
END:DAYLIGHT
BEGIN:STANDARD
TZOFFSETFROM:+0200
TZOFFSETTO:+0100
TZNAME:CET
DTSTART:20251026T010000
END:STANDARD
BEGIN:DAYLIGHT
TZOFFSETFROM:+0100
TZOFFSETTO:+0200
TZNAME:CEST
DTSTART:20260329T010000
END:DAYLIGHT
BEGIN:STANDARD
TZOFFSETFROM:+0200
TZOFFSETTO:+0100
TZNAME:CET
DTSTART:20261025T010000
END:STANDARD
END:VTIMEZONE
BEGIN:VEVENT
DTSTART;VALUE=DATE:20251113
DTEND;VALUE=DATE:20251122
DTSTAMP:20260423T151558
CREATED:20250223T124932Z
LAST-MODIFIED:20250223T124932Z
UID:2515-1762992000-1763769599@www.kappi-divers.de
SUMMARY:Flaschen-Druckprüfung November
DESCRIPTION:Nächster Flaschen-Prüf-Termin: 14.11.2025\,\nAbgabe der Flaschen bis 13.11.2025!\nEure Flaschen sind am 21.11.2025 wieder abholbereit. \nJede Tauchflasche und jede Druckluftflasche egal ob 0\,75 oder 20 Liter Gerät muss alle 30 Monate zur Überprüfungs-Untersuchung (gilt für Alu- und Stahlflaschen).
URL:https://www.kappi-divers.de/termine/flaschen-pruefung-dezember-2-2-2-2-2-2-2-2-2-2/
CATEGORIES:Service
END:VEVENT
END:VCALENDAR